BEGIN:VCALENDAR
VERSION:2.0
PRODID:-// - ECPv6.15.20//NONSGML v1.0//EN
CALSCALE:GREGORIAN
METHOD:PUBLISH
X-ORIGINAL-URL:https://adirondackcenterforwriting.org
X-WR-CALDESC:Events for 
REFRESH-INTERVAL;VALUE=DURATION:PT1H
X-Robots-Tag:noindex
X-PUBLISHED-TTL:PT1H
BEGIN:VTIMEZONE
TZID:America/New_York
BEGIN:DAYLIGHT
TZOFFSETFROM:-0500
TZOFFSETTO:-0400
TZNAME:EDT
DTSTART:20210314T070000
END:DAYLIGHT
BEGIN:STANDARD
TZOFFSETFROM:-0400
TZOFFSETTO:-0500
TZNAME:EST
DTSTART:20211107T060000
END:STANDARD
BEGIN:DAYLIGHT
TZOFFSETFROM:-0500
TZOFFSETTO:-0400
TZNAME:EDT
DTSTART:20220313T070000
END:DAYLIGHT
BEGIN:STANDARD
TZOFFSETFROM:-0400
TZOFFSETTO:-0500
TZNAME:EST
DTSTART:20221106T060000
END:STANDARD
BEGIN:DAYLIGHT
TZOFFSETFROM:-0500
TZOFFSETTO:-0400
TZNAME:EDT
DTSTART:20230312T070000
END:DAYLIGHT
BEGIN:STANDARD
TZOFFSETFROM:-0400
TZOFFSETTO:-0500
TZNAME:EST
DTSTART:20231105T060000
END:STANDARD
BEGIN:DAYLIGHT
TZOFFSETFROM:-0500
TZOFFSETTO:-0400
TZNAME:EDT
DTSTART:20240310T070000
END:DAYLIGHT
BEGIN:STANDARD
TZOFFSETFROM:-0400
TZOFFSETTO:-0500
TZNAME:EST
DTSTART:20241103T060000
END:STANDARD
END:VTIMEZONE
BEGIN:VEVENT
DTSTART;TZID=America/New_York:20230203T150000
DTEND;TZID=America/New_York:20230203T190000
DTSTAMP:20260425T102652
CREATED:20230110T201741Z
LAST-MODIFIED:20230202T181045Z
UID:19822-1675436400-1675450800@adirondackcenterforwriting.org
SUMMARY:Friday Night Writes + How to Get a Literary Agent (and Why)
DESCRIPTION:Register here Join ACW for an 8-week creative writing workshop for adults ages 55+\, led by Elaine Handley. Legacy writing encompasses what we wish for our loved ones to know about us and how we have navigated our lives. Legacy writing preserves our values\, stories\, opinions\, history\, and experiences through a creative lens. Students in this … Continue reading What I Want You to Know: A Legacy Writing Workshop
URL:https://adirondackcenterforwriting.org/event/friday-night-writes-how-to-get-a-literary-agent-and-why/
LOCATION:Adirondack Center for Writing\, 15 BROADWAY SL\, Saranac Lake\, New York\, 12983
CATEGORIES:Friday Night Writes
ATTACH;FMTTYPE=image/jpeg:https://adirondackcenterforwriting.org/wp-content/uploads/2023/01/JB-headshot-1-1.jpg
ORGANIZER;CN="Adirondack Center For Writing":MAILTO:info@adirondackcenterforwriting.org
END:VEVENT
BEGIN:VEVENT
DTSTART;TZID=America/New_York:20230118T190000
DTEND;TZID=America/New_York:20230118T200000
DTSTAMP:20260425T102652
CREATED:20221130T212444Z
LAST-MODIFIED:20221221T210544Z
UID:19371-1674068400-1674072000@adirondackcenterforwriting.org
SUMMARY:Barkreaders Open Mic: with Pedro Ponce
DESCRIPTION:Register here Join ACW for an 8-week creative writing workshop for adults ages 55+\, led by Elaine Handley. Legacy writing encompasses what we wish for our loved ones to know about us and how we have navigated our lives. Legacy writing preserves our values\, stories\, opinions\, history\, and experiences through a creative lens. Students in this … Continue reading What I Want You to Know: A Legacy Writing Workshop
URL:https://adirondackcenterforwriting.org/event/barkreaders-open-mic-with-pedro-ponce/
LOCATION:Adirondack Center for Writing\, 15 BROADWAY SL\, Saranac Lake\, New York\, 12983
CATEGORIES:BarkReaders
ATTACH;FMTTYPE=image/jpeg:https://adirondackcenterforwriting.org/wp-content/uploads/2022/11/Barkreaders_Insta.jpg
ORGANIZER;CN="Adirondack Center For Writing":MAILTO:info@adirondackcenterforwriting.org
END:VEVENT
BEGIN:VEVENT
DTSTART;TZID=America/New_York:20230113T150000
DTEND;TZID=America/New_York:20230113T190000
DTSTAMP:20260425T102652
CREATED:20221216T185926Z
LAST-MODIFIED:20230105T155732Z
UID:19569-1673622000-1673636400@adirondackcenterforwriting.org
SUMMARY:Friday Night Writes + Writer Websites 101
DESCRIPTION:Register here Join ACW for an 8-week creative writing workshop for adults ages 55+\, led by Elaine Handley. Legacy writing encompasses what we wish for our loved ones to know about us and how we have navigated our lives. Legacy writing preserves our values\, stories\, opinions\, history\, and experiences through a creative lens. Students in this … Continue reading What I Want You to Know: A Legacy Writing Workshop
URL:https://adirondackcenterforwriting.org/event/friday-night-writes-writer-websites-101/
LOCATION:New York
CATEGORIES:Friday Night Writes
ATTACH;FMTTYPE=image/jpeg:https://adirondackcenterforwriting.org/wp-content/uploads/2022/12/1.jpg
END:VEVENT
BEGIN:VEVENT
DTSTART;TZID=America/New_York:20230107T190000
DTEND;TZID=America/New_York:20230107T190000
DTSTAMP:20260425T102652
CREATED:20221222T183710Z
LAST-MODIFIED:20230106T210500Z
UID:19652-1673118000-1673118000@adirondackcenterforwriting.org
SUMMARY:Howl Grand Slam
DESCRIPTION:Register here Join ACW for an 8-week creative writing workshop for adults ages 55+\, led by Elaine Handley. Legacy writing encompasses what we wish for our loved ones to know about us and how we have navigated our lives. Legacy writing preserves our values\, stories\, opinions\, history\, and experiences through a creative lens. Students in this … Continue reading What I Want You to Know: A Legacy Writing Workshop
URL:https://adirondackcenterforwriting.org/event/howl-grand-slam/
LOCATION:Harrietstown Town Hall\, 39 Main Street\, Saranac Lake\, New York\, 12983
CATEGORIES:Howl Story Slam
ATTACH;FMTTYPE=image/jpeg:https://adirondackcenterforwriting.org/wp-content/uploads/2022/12/Grand-Slam_Square.jpg
END:VEVENT
BEGIN:VEVENT
DTSTART;TZID=America/New_York:20221202T173000
DTEND;TZID=America/New_York:20221202T183000
DTSTAMP:20260425T102652
CREATED:20221117T200325Z
LAST-MODIFIED:20221130T201211Z
UID:19241-1670002200-1670005800@adirondackcenterforwriting.org
SUMMARY:SOS: Where Can I Publish This?
DESCRIPTION:Register here Join ACW for an 8-week creative writing workshop for adults ages 55+\, led by Elaine Handley. Legacy writing encompasses what we wish for our loved ones to know about us and how we have navigated our lives. Legacy writing preserves our values\, stories\, opinions\, history\, and experiences through a creative lens. Students in this … Continue reading What I Want You to Know: A Legacy Writing Workshop
URL:https://adirondackcenterforwriting.org/event/sos-where-can-i-publish-this/
LOCATION:Adirondack Center for Writing\, 15 BROADWAY SL\, Saranac Lake\, New York\, 12983
CATEGORIES:Workshop
ATTACH;FMTTYPE=image/jpeg:https://adirondackcenterforwriting.org/wp-content/uploads/2022/11/9-1.jpg
ORGANIZER;CN="Adirondack Center For Writing":MAILTO:info@adirondackcenterforwriting.org
END:VEVENT
BEGIN:VEVENT
DTSTART;TZID=America/New_York:20221109T190000
DTEND;TZID=America/New_York:20221109T190000
DTSTAMP:20260425T102652
CREATED:20220920T150529Z
LAST-MODIFIED:20221013T193749Z
UID:18610-1668020400-1668020400@adirondackcenterforwriting.org
SUMMARY:Barkreaders: Lorraine Duvall
DESCRIPTION:Register here Join ACW for an 8-week creative writing workshop for adults ages 55+\, led by Elaine Handley. Legacy writing encompasses what we wish for our loved ones to know about us and how we have navigated our lives. Legacy writing preserves our values\, stories\, opinions\, history\, and experiences through a creative lens. Students in this … Continue reading What I Want You to Know: A Legacy Writing Workshop
URL:https://adirondackcenterforwriting.org/event/barkreaders-lorraine-duvall/
LOCATION:Adirondack Center for Writing\, 15 BROADWAY SL\, Saranac Lake\, New York\, 12983
CATEGORIES:BarkReaders
ATTACH;FMTTYPE=image/jpeg:https://adirondackcenterforwriting.org/wp-content/uploads/2022/09/Barkreaders_Insta.jpg
END:VEVENT
BEGIN:VEVENT
DTSTART;TZID=America/New_York:20221104T150000
DTEND;TZID=America/New_York:20221104T190000
DTSTAMP:20260425T102652
CREATED:20220915T194446Z
LAST-MODIFIED:20221031T164137Z
UID:18549-1667574000-1667588400@adirondackcenterforwriting.org
SUMMARY:Friday Night Writes: November
DESCRIPTION:Register here Join ACW for an 8-week creative writing workshop for adults ages 55+\, led by Elaine Handley. Legacy writing encompasses what we wish for our loved ones to know about us and how we have navigated our lives. Legacy writing preserves our values\, stories\, opinions\, history\, and experiences through a creative lens. Students in this … Continue reading What I Want You to Know: A Legacy Writing Workshop
URL:https://adirondackcenterforwriting.org/event/friday-night-writes-november/
LOCATION:Adirondack Center for Writing\, 15 BROADWAY SL\, Saranac Lake\, New York\, 12983
CATEGORIES:Friday Night Writes
ATTACH;FMTTYPE=image/jpeg:https://adirondackcenterforwriting.org/wp-content/uploads/2022/09/FNW-Instagram-8.jpg
END:VEVENT
BEGIN:VEVENT
DTSTART;TZID=America/New_York:20221102T190000
DTEND;TZID=America/New_York:20221102T190000
DTSTAMP:20260425T102652
CREATED:20220916T181812Z
LAST-MODIFIED:20221013T194010Z
UID:18568-1667415600-1667415600@adirondackcenterforwriting.org
SUMMARY:Howl Story Slam: Bolton Landing Brewing Co.
DESCRIPTION:Register here Join ACW for an 8-week creative writing workshop for adults ages 55+\, led by Elaine Handley. Legacy writing encompasses what we wish for our loved ones to know about us and how we have navigated our lives. Legacy writing preserves our values\, stories\, opinions\, history\, and experiences through a creative lens. Students in this … Continue reading What I Want You to Know: A Legacy Writing Workshop
URL:https://adirondackcenterforwriting.org/event/howl-story-slam-bolton-landing-brewing-co-2/
LOCATION:Bolton Landing Brewing Company\, 4933 Lake Shore Dr\, Bolton Landing\, New York\, 12814\, United States
CATEGORIES:Howl Story Slam
ATTACH;FMTTYPE=image/jpeg:https://adirondackcenterforwriting.org/wp-content/uploads/2022/09/Howl-Story-Slam-2021-1500-×-1500-px-6.jpg
END:VEVENT
BEGIN:VEVENT
DTSTART;TZID=America/New_York:20221101T180000
DTEND;TZID=America/New_York:20221101T190000
DTSTAMP:20260425T102652
CREATED:20221013T193431Z
LAST-MODIFIED:20221013T193432Z
UID:18901-1667325600-1667329200@adirondackcenterforwriting.org
SUMMARY:Adults: Get Writing & Stay Writing
DESCRIPTION:Register here Join ACW for an 8-week creative writing workshop for adults ages 55+\, led by Elaine Handley. Legacy writing encompasses what we wish for our loved ones to know about us and how we have navigated our lives. Legacy writing preserves our values\, stories\, opinions\, history\, and experiences through a creative lens. Students in this … Continue reading What I Want You to Know: A Legacy Writing Workshop
URL:https://adirondackcenterforwriting.org/event/adults-get-writing-stay-writing/
LOCATION:Goff-Nelson Memorial Tupper Lake Public Library\, 41 Lake Street\, Tupper Lake\, New York\, 12986\, United States
CATEGORIES:Workshop
ATTACH;FMTTYPE=image/jpeg:https://adirondackcenterforwriting.org/wp-content/uploads/2022/10/2.jpg
END:VEVENT
BEGIN:VEVENT
DTSTART;TZID=America/New_York:20221101T160000
DTEND;TZID=America/New_York:20221101T170000
DTSTAMP:20260425T102652
CREATED:20221013T191857Z
LAST-MODIFIED:20221013T192753Z
UID:18891-1667318400-1667322000@adirondackcenterforwriting.org
SUMMARY:Teens: Get Writing & Stay Writing
DESCRIPTION:Register here Join ACW for an 8-week creative writing workshop for adults ages 55+\, led by Elaine Handley. Legacy writing encompasses what we wish for our loved ones to know about us and how we have navigated our lives. Legacy writing preserves our values\, stories\, opinions\, history\, and experiences through a creative lens. Students in this … Continue reading What I Want You to Know: A Legacy Writing Workshop
URL:https://adirondackcenterforwriting.org/event/teens-get-writing-stay-writing/
LOCATION:Goff-Nelson Memorial Tupper Lake Public Library\, 41 Lake Street\, Tupper Lake\, New York\, 12986\, United States
CATEGORIES:Workshop
ATTACH;FMTTYPE=image/jpeg:https://adirondackcenterforwriting.org/wp-content/uploads/2022/10/1.jpg
END:VEVENT
BEGIN:VEVENT
DTSTART;TZID=America/New_York:20221027T190000
DTEND;TZID=America/New_York:20221027T190000
DTSTAMP:20260425T102652
CREATED:20220929T164824Z
LAST-MODIFIED:20221014T135338Z
UID:18721-1666897200-1666897200@adirondackcenterforwriting.org
SUMMARY:Poetry on Broadway: Jon Sands\, Karl Michael Iglesias\, Felicia Cade
DESCRIPTION:Register here Join ACW for an 8-week creative writing workshop for adults ages 55+\, led by Elaine Handley. Legacy writing encompasses what we wish for our loved ones to know about us and how we have navigated our lives. Legacy writing preserves our values\, stories\, opinions\, history\, and experiences through a creative lens. Students in this … Continue reading What I Want You to Know: A Legacy Writing Workshop
URL:https://adirondackcenterforwriting.org/event/broadway/
LOCATION:Adirondack Center for Writing\, 15 BROADWAY SL\, Saranac Lake\, New York\, 12983
CATEGORIES:Performance
ATTACH;FMTTYPE=image/jpeg:https://adirondackcenterforwriting.org/wp-content/uploads/2022/09/Poetry-on-Broadway-Instagram-Post-Square.jpg
END:VEVENT
BEGIN:VEVENT
DTSTART;TZID=America/New_York:20221027T090000
DTEND;TZID=America/New_York:20221028T150000
DTSTAMP:20260425T102652
CREATED:20220915T195142Z
LAST-MODIFIED:20221018T134441Z
UID:18556-1666861200-1666969200@adirondackcenterforwriting.org
SUMMARY:High School Writing Retreat (Fall 2022)
DESCRIPTION:Register here Join ACW for an 8-week creative writing workshop for adults ages 55+\, led by Elaine Handley. Legacy writing encompasses what we wish for our loved ones to know about us and how we have navigated our lives. Legacy writing preserves our values\, stories\, opinions\, history\, and experiences through a creative lens. Students in this … Continue reading What I Want You to Know: A Legacy Writing Workshop
URL:https://adirondackcenterforwriting.org/event/high-school-writing-retreat-fall-2022/
LOCATION:Paul Smiths College\, 7777 NY-30\, Paul Smiths\, New York\, 12970\, United States
ATTACH;FMTTYPE=image/jpeg:https://adirondackcenterforwriting.org/wp-content/uploads/2022/09/FNW-Instagram-1.jpg
END:VEVENT
BEGIN:VEVENT
DTSTART;TZID=America/New_York:20221012T190000
DTEND;TZID=America/New_York:20221012T190000
DTSTAMP:20260425T102652
CREATED:20220830T165041Z
LAST-MODIFIED:20220830T185341Z
UID:18178-1665601200-1665601200@adirondackcenterforwriting.org
SUMMARY:HOWL Story Slam - Raquette River Brewing (Tupper Lake\, NY)
DESCRIPTION:Register here Join ACW for an 8-week creative writing workshop for adults ages 55+\, led by Elaine Handley. Legacy writing encompasses what we wish for our loved ones to know about us and how we have navigated our lives. Legacy writing preserves our values\, stories\, opinions\, history\, and experiences through a creative lens. Students in this … Continue reading What I Want You to Know: A Legacy Writing Workshop
URL:https://adirondackcenterforwriting.org/event/howl-story-slam-raquette-river-brewing-tupper-lake-ny/
LOCATION:New York
CATEGORIES:Howl Story Slam
ATTACH;FMTTYPE=image/jpeg:https://adirondackcenterforwriting.org/wp-content/uploads/2022/08/Howl-Story-Slam-2021-1500-×-1500-px-4.jpg
ORGANIZER;CN="Adirondack Center For Writing":MAILTO:info@adirondackcenterforwriting.org
END:VEVENT
BEGIN:VEVENT
DTSTART;TZID=America/New_York:20220915T170000
DTEND;TZID=America/New_York:20220915T193000
DTSTAMP:20260425T102652
CREATED:20220829T104433Z
LAST-MODIFIED:20220910T020639Z
UID:18056-1663261200-1663270200@adirondackcenterforwriting.org
SUMMARY:ArtWalk: Banned Books & Book Sales
DESCRIPTION:Register here Join ACW for an 8-week creative writing workshop for adults ages 55+\, led by Elaine Handley. Legacy writing encompasses what we wish for our loved ones to know about us and how we have navigated our lives. Legacy writing preserves our values\, stories\, opinions\, history\, and experiences through a creative lens. Students in this … Continue reading What I Want You to Know: A Legacy Writing Workshop
URL:https://adirondackcenterforwriting.org/event/artwalk-banned-books/
LOCATION:New York
CATEGORIES:ArtWalk
ATTACH;FMTTYPE=image/jpeg:https://adirondackcenterforwriting.org/wp-content/uploads/2022/09/IMG_0859.jpg
ORGANIZER;CN="Adirondack Center For Writing":MAILTO:info@adirondackcenterforwriting.org
END:VEVENT
BEGIN:VEVENT
DTSTART;TZID=America/New_York:20220914T190000
DTEND;TZID=America/New_York:20220914T200000
DTSTAMP:20260425T102652
CREATED:20220809T200440Z
LAST-MODIFIED:20220829T143220Z
UID:17979-1663182000-1663185600@adirondackcenterforwriting.org
SUMMARY:BarkReaders: Christopher Locke
DESCRIPTION:Register here Join ACW for an 8-week creative writing workshop for adults ages 55+\, led by Elaine Handley. Legacy writing encompasses what we wish for our loved ones to know about us and how we have navigated our lives. Legacy writing preserves our values\, stories\, opinions\, history\, and experiences through a creative lens. Students in this … Continue reading What I Want You to Know: A Legacy Writing Workshop
URL:https://adirondackcenterforwriting.org/event/barkreaders-christopher-locke/
LOCATION:New York
CATEGORIES:BarkReaders
ATTACH;FMTTYPE=image/jpeg:https://adirondackcenterforwriting.org/wp-content/uploads/2022/08/2.jpg
ORGANIZER;CN="Adirondack Center For Writing":MAILTO:info@adirondackcenterforwriting.org
END:VEVENT
BEGIN:VEVENT
DTSTART;TZID=America/New_York:20220913T190000
DTEND;TZID=America/New_York:20220913T203000
DTSTAMP:20260425T102652
CREATED:20220829T143917Z
LAST-MODIFIED:20220912T181545Z
UID:18081-1663095600-1663101000@adirondackcenterforwriting.org
SUMMARY:HOWL Story Slam - Bolton Landing Brewing Co. - CANCELLED
DESCRIPTION:Register here Join ACW for an 8-week creative writing workshop for adults ages 55+\, led by Elaine Handley. Legacy writing encompasses what we wish for our loved ones to know about us and how we have navigated our lives. Legacy writing preserves our values\, stories\, opinions\, history\, and experiences through a creative lens. Students in this … Continue reading What I Want You to Know: A Legacy Writing Workshop
URL:https://adirondackcenterforwriting.org/event/howl-story-slam-bolton-landing-brewing-co/
LOCATION:New York
ATTACH;FMTTYPE=image/jpeg:https://adirondackcenterforwriting.org/wp-content/uploads/2022/09/Howl-Story-Slam-2021-1500-×-1500-px-5.jpg
ORGANIZER;CN="Adirondack Center For Writing":MAILTO:info@adirondackcenterforwriting.org
END:VEVENT
BEGIN:VEVENT
DTSTART;TZID=America/New_York:20220902T150000
DTEND;TZID=America/New_York:20220902T190000
DTSTAMP:20260425T102652
CREATED:20220809T195204Z
LAST-MODIFIED:20220829T141814Z
UID:17969-1662130800-1662145200@adirondackcenterforwriting.org
SUMMARY:Friday Night Writes
DESCRIPTION:Register here Join ACW for an 8-week creative writing workshop for adults ages 55+\, led by Elaine Handley. Legacy writing encompasses what we wish for our loved ones to know about us and how we have navigated our lives. Legacy writing preserves our values\, stories\, opinions\, history\, and experiences through a creative lens. Students in this … Continue reading What I Want You to Know: A Legacy Writing Workshop
URL:https://adirondackcenterforwriting.org/event/friday-night-writes/
LOCATION:New York
CATEGORIES:Friday Night Writes
ATTACH;FMTTYPE=image/jpeg:https://adirondackcenterforwriting.org/wp-content/uploads/2022/08/FNW-Instagram-1.jpg
ORGANIZER;CN="Adirondack Center For Writing":MAILTO:info@adirondackcenterforwriting.org
END:VEVENT
BEGIN:VEVENT
DTSTART;TZID=America/New_York:20220820T170000
DTEND;TZID=America/New_York:20220820T180000
DTSTAMP:20260425T102652
CREATED:20220927T185053Z
LAST-MODIFIED:20220927T185055Z
UID:18693-1661014800-1661018400@adirondackcenterforwriting.org
SUMMARY:Silvia Vasquez-Lavado at SL High School
DESCRIPTION:Register here Join ACW for an 8-week creative writing workshop for adults ages 55+\, led by Elaine Handley. Legacy writing encompasses what we wish for our loved ones to know about us and how we have navigated our lives. Legacy writing preserves our values\, stories\, opinions\, history\, and experiences through a creative lens. Students in this … Continue reading What I Want You to Know: A Legacy Writing Workshop
URL:https://adirondackcenterforwriting.org/event/silvia-vasquez-lavado-at-sl-high-school/
LOCATION:New York
ATTACH;FMTTYPE=image/jpeg:https://adirondackcenterforwriting.org/wp-content/uploads/2022/08/FB-promos-for-big-Kickass-events-11.5-×-8-in.jpg
END:VEVENT
BEGIN:VEVENT
DTSTART;TZID=America/New_York:20220820T140000
DTEND;TZID=America/New_York:20220820T160000
DTSTAMP:20260425T102652
CREATED:20220927T184553Z
LAST-MODIFIED:20220927T184555Z
UID:18690-1661004000-1661011200@adirondackcenterforwriting.org
SUMMARY:North Country Author Showcase
DESCRIPTION:Register here Join ACW for an 8-week creative writing workshop for adults ages 55+\, led by Elaine Handley. Legacy writing encompasses what we wish for our loved ones to know about us and how we have navigated our lives. Legacy writing preserves our values\, stories\, opinions\, history\, and experiences through a creative lens. Students in this … Continue reading What I Want You to Know: A Legacy Writing Workshop
URL:https://adirondackcenterforwriting.org/event/north-country-author-showcase/
LOCATION:New York
ATTACH;FMTTYPE=image/jpeg:https://adirondackcenterforwriting.org/wp-content/uploads/2022/08/North-Country-Author-Showcase-Instagram-Post-2.jpg
END:VEVENT
BEGIN:VEVENT
DTSTART;TZID=America/New_York:20220820T130000
DTEND;TZID=America/New_York:20220820T150000
DTSTAMP:20260425T102652
CREATED:20220927T184339Z
LAST-MODIFIED:20220927T184340Z
UID:18686-1661000400-1661007600@adirondackcenterforwriting.org
SUMMARY:Erasure + Nature Writing workshop
DESCRIPTION:Register here Join ACW for an 8-week creative writing workshop for adults ages 55+\, led by Elaine Handley. Legacy writing encompasses what we wish for our loved ones to know about us and how we have navigated our lives. Legacy writing preserves our values\, stories\, opinions\, history\, and experiences through a creative lens. Students in this … Continue reading What I Want You to Know: A Legacy Writing Workshop
URL:https://adirondackcenterforwriting.org/event/erasure-nature-writing-workshop/
LOCATION:New York
ATTACH;FMTTYPE=image/png:https://adirondackcenterforwriting.org/wp-content/uploads/2022/07/erasure-nature-writing-1.png
END:VEVENT
BEGIN:VEVENT
DTSTART;TZID=America/New_York:20220820T110000
DTEND;TZID=America/New_York:20220820T120000
DTSTAMP:20260425T102652
CREATED:20220927T183536Z
LAST-MODIFIED:20220927T183537Z
UID:18679-1660993200-1660996800@adirondackcenterforwriting.org
SUMMARY:Learn it from a Local Panel
DESCRIPTION:Register here Join ACW for an 8-week creative writing workshop for adults ages 55+\, led by Elaine Handley. Legacy writing encompasses what we wish for our loved ones to know about us and how we have navigated our lives. Legacy writing preserves our values\, stories\, opinions\, history\, and experiences through a creative lens. Students in this … Continue reading What I Want You to Know: A Legacy Writing Workshop
URL:https://adirondackcenterforwriting.org/event/learn-it-from-a-local-panel/
LOCATION:New York
ATTACH;FMTTYPE=image/jpeg:https://adirondackcenterforwriting.org/wp-content/uploads/2022/08/Erasure-Nature-Writing-1.jpg
END:VEVENT
BEGIN:VEVENT
DTSTART;TZID=America/New_York:20220820T100000
DTEND;TZID=America/New_York:20220820T120000
DTSTAMP:20260425T102652
CREATED:20220927T183232Z
LAST-MODIFIED:20220927T183233Z
UID:18676-1660989600-1660996800@adirondackcenterforwriting.org
SUMMARY:Comedy Writing Workshop with Greg Barris
DESCRIPTION:Register here Join ACW for an 8-week creative writing workshop for adults ages 55+\, led by Elaine Handley. Legacy writing encompasses what we wish for our loved ones to know about us and how we have navigated our lives. Legacy writing preserves our values\, stories\, opinions\, history\, and experiences through a creative lens. Students in this … Continue reading What I Want You to Know: A Legacy Writing Workshop
URL:https://adirondackcenterforwriting.org/event/comedy-writing-workshop-with-greg-barris/
LOCATION:New York
ATTACH;FMTTYPE=image/png:https://adirondackcenterforwriting.org/wp-content/uploads/2022/05/rodeo-1.png
END:VEVENT
BEGIN:VEVENT
DTSTART;TZID=America/New_York:20220819T190000
DTEND;TZID=America/New_York:20220819T200000
DTSTAMP:20260425T102652
CREATED:20220927T183844Z
LAST-MODIFIED:20220927T183845Z
UID:18682-1660935600-1660939200@adirondackcenterforwriting.org
SUMMARY:NY State Poet: Willie Perdomo
DESCRIPTION:Register here Join ACW for an 8-week creative writing workshop for adults ages 55+\, led by Elaine Handley. Legacy writing encompasses what we wish for our loved ones to know about us and how we have navigated our lives. Legacy writing preserves our values\, stories\, opinions\, history\, and experiences through a creative lens. Students in this … Continue reading What I Want You to Know: A Legacy Writing Workshop
URL:https://adirondackcenterforwriting.org/event/ny-state-poet-willie-perdomo/
LOCATION:New York
ATTACH;FMTTYPE=image/jpeg:https://adirondackcenterforwriting.org/wp-content/uploads/2022/08/FB-promos-for-big-Kickass-events-11.5-×-8-in-1.jpg
END:VEVENT
END:VCALENDAR