BEGIN:VCALENDAR
VERSION:2.0
PRODID:-// - ECPv6.15.20//NONSGML v1.0//EN
CALSCALE:GREGORIAN
METHOD:PUBLISH
X-ORIGINAL-URL:https://adirondackcenterforwriting.org
X-WR-CALDESC:Events for 
REFRESH-INTERVAL;VALUE=DURATION:PT1H
X-Robots-Tag:noindex
X-PUBLISHED-TTL:PT1H
BEGIN:VTIMEZONE
TZID:America/New_York
BEGIN:DAYLIGHT
TZOFFSETFROM:-0500
TZOFFSETTO:-0400
TZNAME:EDT
DTSTART:20250309T070000
END:DAYLIGHT
BEGIN:STANDARD
TZOFFSETFROM:-0400
TZOFFSETTO:-0500
TZNAME:EST
DTSTART:20251102T060000
END:STANDARD
BEGIN:DAYLIGHT
TZOFFSETFROM:-0500
TZOFFSETTO:-0400
TZNAME:EDT
DTSTART:20260308T070000
END:DAYLIGHT
BEGIN:STANDARD
TZOFFSETFROM:-0400
TZOFFSETTO:-0500
TZNAME:EST
DTSTART:20261101T060000
END:STANDARD
BEGIN:DAYLIGHT
TZOFFSETFROM:-0500
TZOFFSETTO:-0400
TZNAME:EDT
DTSTART:20270314T070000
END:DAYLIGHT
BEGIN:STANDARD
TZOFFSETFROM:-0400
TZOFFSETTO:-0500
TZNAME:EST
DTSTART:20271107T060000
END:STANDARD
END:VTIMEZONE
BEGIN:VEVENT
DTSTART;TZID=America/New_York:20260517T170000
DTEND;TZID=America/New_York:20260517T200000
DTSTAMP:20260419T100631
CREATED:20260406T160533Z
LAST-MODIFIED:20260406T160537Z
UID:28390-1779037200-1779048000@adirondackcenterforwriting.org
SUMMARY:Queer Lit Night - Queer Prom
DESCRIPTION:Poet Richard Levine (Seward\, NY) will read from his newest collection of poems\, Now in Contest (Fernwood Press\, 2023)\, and then we'll host an open mic where anyone can share up to 5 minutes of writing at the mic. There will be a book sale and signing following the reading.
URL:https://adirondackcenterforwriting.org/event/queer-lit-night-queer-prom/
ATTACH;FMTTYPE=image/jpeg:https://adirondackcenterforwriting.org/wp-content/uploads/2026/04/5.jpg
END:VEVENT
BEGIN:VEVENT
DTSTART;TZID=America/New_York:20260520T190000
DTEND;TZID=America/New_York:20260520T210000
DTSTAMP:20260419T100631
CREATED:20260206T152853Z
LAST-MODIFIED:20260206T203614Z
UID:27942-1779303600-1779310800@adirondackcenterforwriting.org
SUMMARY:Howl Story Slam at Smoke Signals
DESCRIPTION:Poet Richard Levine (Seward\, NY) will read from his newest collection of poems\, Now in Contest (Fernwood Press\, 2023)\, and then we'll host an open mic where anyone can share up to 5 minutes of writing at the mic. There will be a book sale and signing following the reading.
URL:https://adirondackcenterforwriting.org/event/howl-story-slam-at-smoke-signals-2/
ATTACH;FMTTYPE=image/jpeg:https://adirondackcenterforwriting.org/wp-content/uploads/2026/02/waterhole-howl-4.jpg
END:VEVENT
BEGIN:VEVENT
DTSTART;TZID=America/New_York:20260714T180000
DTEND;TZID=America/New_York:20260714T200000
DTSTAMP:20260419T100631
CREATED:20260206T153010Z
LAST-MODIFIED:20260206T203626Z
UID:27944-1784052000-1784059200@adirondackcenterforwriting.org
SUMMARY:Howl Story Slam at Ausable Brewing
DESCRIPTION:Poet Richard Levine (Seward\, NY) will read from his newest collection of poems\, Now in Contest (Fernwood Press\, 2023)\, and then we'll host an open mic where anyone can share up to 5 minutes of writing at the mic. There will be a book sale and signing following the reading.
URL:https://adirondackcenterforwriting.org/event/howl-story-slam-at-ausable-brewing-2/
ATTACH;FMTTYPE=image/jpeg:https://adirondackcenterforwriting.org/wp-content/uploads/2026/02/waterhole-howl-5.jpg
END:VEVENT
BEGIN:VEVENT
DTSTART;TZID=America/New_York:20260730T190000
DTEND;TZID=America/New_York:20260730T210000
DTSTAMP:20260419T100631
CREATED:20260206T153150Z
LAST-MODIFIED:20260206T203648Z
UID:27946-1785438000-1785445200@adirondackcenterforwriting.org
SUMMARY:Howl Story Slam at the Cranberry Lake North Shore Hub
DESCRIPTION:Poet Richard Levine (Seward\, NY) will read from his newest collection of poems\, Now in Contest (Fernwood Press\, 2023)\, and then we'll host an open mic where anyone can share up to 5 minutes of writing at the mic. There will be a book sale and signing following the reading.
URL:https://adirondackcenterforwriting.org/event/howl-story-slam-at-the-cranberry-lake-north-shore-hub/
ATTACH;FMTTYPE=image/jpeg:https://adirondackcenterforwriting.org/wp-content/uploads/2026/02/waterhole-howl-6.jpg
END:VEVENT
BEGIN:VEVENT
DTSTART;TZID=America/New_York:20260916T190000
DTEND;TZID=America/New_York:20260916T210000
DTSTAMP:20260419T100631
CREATED:20260206T153259Z
LAST-MODIFIED:20260206T153636Z
UID:27949-1789585200-1789592400@adirondackcenterforwriting.org
SUMMARY:Howl Story Slam at 1844 House
DESCRIPTION:Poet Richard Levine (Seward\, NY) will read from his newest collection of poems\, Now in Contest (Fernwood Press\, 2023)\, and then we'll host an open mic where anyone can share up to 5 minutes of writing at the mic. There will be a book sale and signing following the reading.
URL:https://adirondackcenterforwriting.org/event/howl-story-slam-at-1844-house-2/
ATTACH;FMTTYPE=image/jpeg:https://adirondackcenterforwriting.org/wp-content/uploads/2026/02/waterhole-howl-7.jpg
END:VEVENT
BEGIN:VEVENT
DTSTART;TZID=America/New_York:20261009T190000
DTEND;TZID=America/New_York:20261009T210000
DTSTAMP:20260419T100631
CREATED:20260206T153414Z
LAST-MODIFIED:20260206T153640Z
UID:27951-1791572400-1791579600@adirondackcenterforwriting.org
SUMMARY:Howl Story Slam at the Waterhole
DESCRIPTION:Poet Richard Levine (Seward\, NY) will read from his newest collection of poems\, Now in Contest (Fernwood Press\, 2023)\, and then we'll host an open mic where anyone can share up to 5 minutes of writing at the mic. There will be a book sale and signing following the reading.
URL:https://adirondackcenterforwriting.org/event/howl-story-slam-at-the-waterhole-2/
ATTACH;FMTTYPE=image/jpeg:https://adirondackcenterforwriting.org/wp-content/uploads/2026/02/waterhole-howl-8.jpg
END:VEVENT
BEGIN:VEVENT
DTSTART;TZID=America/New_York:20261117T190000
DTEND;TZID=America/New_York:20261117T210000
DTSTAMP:20260419T100631
CREATED:20260206T153540Z
LAST-MODIFIED:20260206T153645Z
UID:27953-1794942000-1794949200@adirondackcenterforwriting.org
SUMMARY:Howl Story Slam at Raquette River Brewing
DESCRIPTION:Poet Richard Levine (Seward\, NY) will read from his newest collection of poems\, Now in Contest (Fernwood Press\, 2023)\, and then we'll host an open mic where anyone can share up to 5 minutes of writing at the mic. There will be a book sale and signing following the reading.
URL:https://adirondackcenterforwriting.org/event/howl-story-slam-at-raquette-river-brewing-2/
ATTACH;FMTTYPE=image/jpeg:https://adirondackcenterforwriting.org/wp-content/uploads/2026/02/waterhole-howl-9.jpg
END:VEVENT
END:VCALENDAR